Workbook

Sheet 发电自用比例计算表（无峰谷计价）
A1: =#REF! -> #REF!
A2: 光伏装机容量（kW） | C2: =#REF! -> #REF! | E2: 白天有功段(11h) | F2: 08:00-19:00 | G2: 11小时 | H2: 光伏发的电只在白天有功段消纳
A3: 平均峰值日照时数（h） | C3: =SUM(B6:B17)/A17 -> 3.69 | E3: 发电段(7h) | F3: 09:00-15:00 | G3: 6小时 | H3: 电力公司营销部收集某天的电力负荷曲线，避免企业晚上用电量占比过大，影响光伏自用比例
A4: 光伏系统综合效率 | C4: =#REF! -> #REF! | E4: 有功段发电比 | F4: =(15-9)/(19-8) -> 0.54545455 | J4: 计量点1：XX有限公司 | L4: 计量点2：XX有限公司 | N4: 计量点3：XX有限公司 | P4: 计量点4：XX有限公司 | R4: 计量点5：XX有限公司
A5: 月份 | B5: 峰值日照时数（h） | C5: 月天数 | D5: 平均月发电量（kWh） | E5: 月电费有功段 用电量（kWh） | F5: 月电费有功段 消纳量（kWh） | G5: 每月平均 自用比例 | J5: 月份 | K5: 月电费单 有功段 用电量 | L5: 月份 | M5: 月电费单 有功段 用电量 | N5: 月份 | O5: 月电费单 有功段 用电量 | P5: 月份 | Q5: 月电费单 有功段 用电量 | R5: 月份 | S5: 月电费单 有功段 用电量
A6: 1 | B6: 2.77 | C6: 31 | D6: =C2*C4*B6*C6 -> #REF! | E6: =SUM(K6,M6,O6,Q6,S6) -> 0 | F6: =E6*F4 -> 0 | G6: =MIN(0.8,F6/D6) -> #REF! | J6: 1 | L6: 1 | N6: 1 | P6: 1 | R6: 1
A7: 2 | B7: 2.54 | C7: 28 | D7: =C2*C4*B7*C7 -> #REF! | E7: =SUM(K7,M7,O7,Q7,S7) -> 0 | F7: =E7*F4 -> 0 | G7: =MIN(0.8,F7/D7) -> #REF! | J7: 2 | L7: 2 | N7: 2 | P7: 2 | R7: 2
A8: 3 | B8: 2.7 | C8: 31 | D8: =C2*C4*B8*C8 -> #REF! | E8: =SUM(K8,M8,O8,Q8,S8) -> 0 | F8: =E8*F4 -> 0 | G8: =MIN(0.8,F8/D8) -> #REF! | J8: 3 | L8: 3 | N8: 3 | P8: 3 | R8: 3
A9: 4 | B9: 3.23 | C9: 30 | D9: =C2*C4*B9*C9 -> #REF! | E9: =SUM(K9,M9,O9,Q9,S9) -> 0 | F9: =E9*F4 -> 0 | G9: =MIN(0.8,F9/D9) -> #REF! | J9: 4 | L9: 4 | N9: 4 | P9: 4 | R9: 4
A10: 5 | B10: 3.92 | C10: 31 | D10: =C2*C4*B10*C10 -> #REF! | E10: =SUM(K10,M10,O10,Q10,S10) -> 0 | F10: =E10*F4 -> 0 | G10: =MIN(0.8,F10/D10) -> #REF! | J10: 5 | L10: 5 | N10: 5 | P10: 5 | R10: 5
A11: 6 | B11: 4.32 | C11: 30 | D11: =C2*C4*B11*C11 -> #REF! | E11: =SUM(K11,M11,O11,Q11,S11) -> 0 | F11: =E11*F4 -> 0 | G11: =MIN(0.8,F11/D11) -> #REF! | J11: 6 | L11: 6 | N11: 6 | P11: 6 | R11: 6
A12: 7 | B12: 4.8 | C12: 31 | D12: =C2*C4*B12*C12 -> #REF! | E12: =SUM(K12,M12,O12,Q12,S12) -> 0 | F12: =E12*F4 -> 0 | G12: =MIN(0.8,F12/D12) -> #REF! | J12: 7 | L12: 7 | N12: 7 | P12: 7 | R12: 7
A13: 8 | B13: 4.54 | C13: 31 | D13: =C2*C4*B13*C13 -> #REF! | E13: =SUM(K13,M13,O13,Q13,S13) -> 0 | F13: =E13*F4 -> 0 | G13: =MIN(0.8,F13/D13) -> #REF! | J13: 8 | L13: 8 | N13: 8 | P13: 8 | R13: 8
A14: 9 | B14: 4.33 | C14: 30 | D14: =C2*C4*B14*C14 -> #REF! | E14: =SUM(K14,M14,O14,Q14,S14) -> 0 | F14: =E14*F4 -> 0 | G14: =MIN(0.8,F14/D14) -> #REF! | J14: 9 | L14: 9 | N14: 9 | P14: 9 | R14: 9
A15: 10 | B15: 4.12 | C15: 31 | D15: =C2*C4*B15*C15 -> #REF! | E15: =SUM(K15,M15,O15,Q15,S15) -> 0 | F15: =E15*F4 -> 0 | G15: =MIN(0.8,F15/D15) -> #REF! | J15: 10 | L15: 10 | N15: 10 | P15: 10 | R15: 10
A16: 11 | B16: 3.74 | C16: 30 | D16: =C2*C4*B16*C16 -> #REF! | E16: =SUM(K16,M16,O16,Q16,S16) -> 0 | F16: =E16*F4 -> 0 | G16: =MIN(0.8,F16/D16) -> #REF! | J16: 11 | L16: 11 | N16: 11 | P16: 11 | R16: 11
A17: 12 | B17: 3.27 | C17: 31 | D17: =C2*C4*B17*C17 -> #REF! | E17: =SUM(K17,M17,O17,Q17,S17) -> 0 | F17: =E17*F4 -> 0 | G17: =MIN(0.8,F17/D17) -> #REF! | J17: 12 | L17: 12 | N17: 12 | P17: 12 | R17: 12
A18: 月平均 | C18: =C19/A17 -> 30.416667 | D18: =D19/A17 -> #REF! | E18: =E19/A17 -> 0 | F18: 每年发电 自用比例 | G18: {=ROUND(SUMPRODUCT(G6:G17,D6:D17)/SUM(D6:D17),4)} -> #REF!
A19: 年总计 | C19: =SUM(C6:C17) -> 365 | D19: =SUM(D6:D17) -> #REF! | E19: =SUM(E6:E17) -> 0
H20: 商业用电的时间段，进一步细化有功段发电比 | L20: 办公楼、学校、市场 | N20: 有功段08:00-19:00，11小时
H21: 主要耗能设备是使用时间段 | L21: 商场、酒楼 | N21: 有功段08:00-23:00，15小时
A22: 年发电量（kWh）=装机容量*年峰值日照小时数*365*光伏电站综合效率 | H22: 未来用电情况 | L22: 医院 | N22: 有功段08:00-8:00，24小时
L23: 学校寒假1月份、暑假7月份一半、8月份不用电或用电少
A24: 年峰值日照小时数即全国各地区的年平均日照时间（广东各市峰值日找时数见附图）
A25: 光伏电站综合效率即系统损耗（如逆变器损耗、线损、灰尘遮挡等），取值在75%-85%之间
A26: 光伏电站的方阵固定朝向为南，东莞市及广州市的最佳倾斜角度为17-22度
G28: 综合效率系数K是考虑了各种因素影响后的修正系数，其中包括：
G30: 1）光伏组件类型修正系数；
G31: 2）光伏方阵的倾角、方位角修正系数；
G32: 3）光伏发电系统可用率；
G33: 4）光照利用率；
G34: 5）逆变器效率；
G35: 6）集电线路、升压变压器损耗；
G36: 7）光伏组件表面污染修正系数；
G37: 8）光伏组件转换效率修正系数。

Sheet 用能方收益
B1: 莞台两轮电动车智能充电站
B2: 充电站功率（kW） | I2: 5
B3: 屋顶安装面积（㎡） | I3: =[1]投资估算!$Q$8 -> 16900.8 | O3: 无租金隐藏
B4: 租金单价（元/㎡） | I4: 0 | O4: 无租金改为0后隐藏
B5: 服务费单价（元/度） | I5: 0.41
B6: 电价优惠折扣 | I6: =4.53/I5 -> 11.04878
B7: 收益分成比例 | I7: 0.35 | O7: 根据自用比例计算表计算结果填写
B8: 首年组件衰减率 | I8: 0.02
B9: 次年及之后组件衰减率 | I9: 0.0055
B10: 平均峰值日照时数（h） | I10: 3.69
B11: 光伏系统综合效率 | I11: {=SUMPRODUCT(S26:S31,R26:R31)/SUM(R26:R31)} -> 0.8 | O11: 根据安装方式修改
B12: 合同截止年限（年） | I12: 20
B13: 项目综合折扣（含租金） | I13: =ROUND((1-(I42+K42)/(I5*D42*0.65))*10,2) -> 4.62
F14: 免费消纳 | G14: 固定收费 | J14: 免费40万度电收益（元） | M14: 发电自用比例
B15: 年份 | C15: 综合利用率 | D15: 年充电量 （度） | E15: 发电自用 电量（度） | F15: 免费消纳 | G15: 固定收费 | H15: 发电上网 电量（度） | I15: 分成收益（元） | J15: 免费40万度电收益（元） | K15: 租金收益 （元） | L15: 总收益 （万元） | M15: 发电自用比例 | N15: 备注
B16: 1 | C16: 0.1 | D16: =4380*3 -> 13140 | E16: =D16*M16 -> 5650.2 | F16: 400000 | G16: =E16-F16 -> -394349.8 | H16: =D16*(1-$M$16) -> 7489.8 | I16: =689.5*3/0.45*$I$5 -> 1884.6333 | J16: =F16*$I$5 -> 164000 | K16: =$I$3*$I$4 -> 0 | L16: =(I16+K16)/10000 -> 0.18846333 | M16: 0.43 | Q16: 天合至尊
B17: 2 | C17: 0.1 | D17: =4380*3 -> 13140 | E17: =D17*M17 -> 8541 | F17: 400000 | G17: =E17-F17 -> -391459 | H17: =D17*(1-$M$16) -> 7489.8 | I17: =689.5*3/0.45*$I$5 -> 1884.6333 | J17: =F16*$I$5 -> 164000 | K17: =$I$3*$I$4 -> 0 | L17: =(I17+K17)/10000 -> 0.18846333 | M17: 0.65 | Q17: 2%首年衰减
B18: 3 | C18: 0.1 | D18: =4380*3 -> 13140 | E18: =D18*M18 -> 8541 | F18: 400000 | G18: =E18-F18 -> -391459 | H18: =D18*(1-$M$16) -> 7489.8 | I18: =689.5*3/0.45*$I$5 -> 1884.6333 | J18: =F17*$I$5 -> 164000 | K18: =$I$3*$I$4 -> 0 | L18: =(I18+K18)/10000 -> 0.18846333 | M18: 0.65 | Q18: 0.55%逐年功率衰减
B19: 4 | C19: 0.1 | D19: =4380*3 -> 13140 | E19: =D19*M19 -> 8541 | F19: 400000 | G19: =E19-F19 -> -391459 | H19: =D19*(1-$M$16) -> 7489.8 | I19: =689.5*3/0.45*$I$5 -> 1884.6333 | J19: =F18*$I$5 -> 164000 | K19: =$I$3*$I$4 -> 0 | L19: =(I19+K19)/10000 -> 0.18846333 | M19: 0.65 | Q19: 25年功率质保84.8%
B20: 5 | C20: 0.1 | D20: =4380*3 -> 13140 | E20: =D20*M20 -> 8541 | F20: 400000 | G20: =E20-F20 -> -391459 | H20: =D20*(1-$M$16) -> 7489.8 | I20: =689.5*3/0.45*$I$5 -> 1884.6333 | J20: =F19*$I$5 -> 164000 | K20: =$I$3*$I$4 -> 0 | L20: =(I20+K20)/10000 -> 0.18846333 | M20: 0.65
B21: 6 | C21: 0.1 | D21: =4380*3 -> 13140 | E21: =D21*M21 -> 8541 | F21: 400000 | G21: =E21-F21 -> -391459 | H21: =D21*(1-$M$16) -> 7489.8 | I21: =689.5*3/0.45*$I$5 -> 1884.6333 | J21: =F20*$I$5 -> 164000 | K21: =$I$3*$I$4 -> 0 | L21: =(I21+K21)/10000 -> 0.18846333 | M21: 0.65 | Q21: 比如山东平铺和斜铺发电量差距最大能到约20%！
B22: 7 | C22: 0.1 | D22: =4380*3 -> 13140 | E22: =D22*M22 -> 8541 | F22: 400000 | G22: =E22-F22 -> -391459 | H22: =D22*(1-$M$16) -> 7489.8 | I22: =689.5*3/0.45*$I$5 -> 1884.6333 | J22: =F21*$I$5 -> 164000 | K22: =$I$3*$I$4 -> 0 | L22: =(I22+K22)/10000 -> 0.18846333 | M22: 0.65 | Q22: 阵列式 光伏系统效率 | T22: 0.8 | X22: 0.85
B23: 8 | C23: 0.1 | D23: =4380*3 -> 13140 | E23: =D23*M23 -> 8541 | F23: 400000 | G23: =E23-F23 -> -391459 | H23: =D23*(1-$M$16) -> 7489.8 | I23: =689.5*3/0.45*$I$5 -> 1884.6333 | J23: =F22*$I$5 -> 164000 | K23: =$I$3*$I$4 -> 0 | L23: =(I23+K23)/10000 -> 0.18846333 | M23: 0.65 | Q23: 搭棚架平铺式 光伏系统效率 | T23: 0.75 | X23: 0.8
B24: 9 | C24: 0.1 | D24: =4380*3 -> 13140 | E24: =D24*M24 -> 8541 | F24: 400000 | G24: =E24-F24 -> -391459 | H24: =D24*(1-$M$16) -> 7489.8 | I24: =689.5*3/0.45*$I$5 -> 1884.6333 | J24: =F23*$I$5 -> 164000 | K24: =$I$3*$I$4 -> 0 | L24: =(I24+K24)/10000 -> 0.18846333 | M24: 0.65 | Q24: 彩钢瓦平铺式 光伏系统效率 | T24: 0.75 | X24: 0.8
B25: 10 | C25: 0.1 | D25: =4380*3 -> 13140 | E25: =D25*M25 -> 8541 | F25: 400000 | G25: =E25-F25 -> -391459 | H25: =D25*(1-$M$16) -> 7489.8 | I25: =689.5*3/0.45*$I$5 -> 1884.6333 | J25: =F24*$I$5 -> 164000 | K25: =$I$3*$I$4 -> 0 | L25: =(I25+K25)/10000 -> 0.18846333 | M25: 0.65 | Q25: 若混合模式折取平均值
B26: 11 | C26: 0.1 | D26: =4380*3 -> 13140 | E26: =D26*M26 -> 8541 | F26: 400000 | G26: =E26-F26 -> -391459 | H26: =D26*(1-$M$16) -> 7489.8 | I26: =689.5*3/0.45*$I$5 -> 1884.6333 | J26: =F25*$I$5 -> 164000 | K26: =$I$3*$I$4 -> 0 | L26: =(I26+K26)/10000 -> 0.18846333 | M26: 0.65 | Q26: 彩瓦导轨 | R26: =[1]投资估算!$N$2 -> 0 | S26: 0.8
B27: 12 | C27: 0.1 | D27: =4380*3 -> 13140 | E27: =D27*M27 -> 8541 | F27: 400000 | G27: =E27-F27 -> -391459 | H27: =D27*(1-$M$16) -> 7489.8 | I27: =689.5*3/0.45*$I$5 -> 1884.6333 | J27: =F26*$I$5 -> 164000 | K27: =$I$3*$I$4 -> 0 | L27: =(I27+K27)/10000 -> 0.18846333 | M27: 0.65 | Q27: 彩瓦防水槽 | R27: =[1]投资估算!$N$3 -> 0 | S27: 0.8
B28: 13 | C28: 0.1 | D28: =4380*3 -> 13140 | E28: =D28*M28 -> 8541 | F28: 400000 | G28: =E28-F28 -> -391459 | H28: =D28*(1-$M$16) -> 7489.8 | I28: =689.5*3/0.45*$I$5 -> 1884.6333 | J28: =F27*$I$5 -> 164000 | K28: =$I$3*$I$4 -> 0 | L28: =(I28+K28)/10000 -> 0.18846333 | M28: 0.65 | Q28: 阵列式 | R28: =[1]投资估算!$N$4 -> 0 | S28: 0.85
B29: 14 | C29: 0.1 | D29: =4380*3 -> 13140 | E29: =D29*M29 -> 8541 | F29: 400000 | G29: =E29-F29 -> -391459 | H29: =D29*(1-$M$16) -> 7489.8 | I29: =689.5*3/0.45*$I$5 -> 1884.6333 | J29: =F28*$I$5 -> 164000 | K29: =$I$3*$I$4 -> 0 | L29: =(I29+K29)/10000 -> 0.18846333 | M29: 0.65 | Q29: 方通搭棚 | R29: =[1]投资估算!$N$5 -> 0 | S29: 0.8
B30: 15 | C30: 0.1 | D30: =4380*3 -> 13140 | E30: =D30*M30 -> 8541 | F30: 400000 | G30: =E30-F30 -> -391459 | H30: =D30*(1-$M$16) -> 7489.8 | I30: =689.5*3/0.45*$I$5 -> 1884.6333 | J30: =F29*$I$5 -> 164000 | K30: =$I$3*$I$4 -> 0 | L30: =(I30+K30)/10000 -> 0.18846333 | M30: 0.65 | Q30: 型钢搭棚 | R30: =[1]投资估算!$N$6 -> 0 | S30: 0.8
B31: 16 | C31: 0.1 | D31: =4380*3 -> 13140 | E31: =D31*M31 -> 8541 | F31: 400000 | G31: =E31-F31 -> -391459 | H31: =D31*(1-$M$16) -> 7489.8 | I31: =689.5*3/0.45*$I$5 -> 1884.6333 | J31: =F30*$I$5 -> 164000 | K31: =$I$3*$I$4 -> 0 | L31: =(I31+K31)/10000 -> 0.18846333 | M31: 0.65 | Q31: 停车棚 | R31: =[1]投资估算!$N$7 -> 3832.86 | S31: 0.8
B32: 17 | C32: 0.1 | D32: =4380*3 -> 13140 | E32: =D32*M32 -> 8541 | F32: 400000 | G32: =E32-F32 -> -391459 | H32: =D32*(1-$M$16) -> 7489.8 | I32: =689.5*3/0.45*$I$5 -> 1884.6333 | J32: =F31*$I$5 -> 164000 | K32: =$I$3*$I$4 -> 0 | L32: =(I32+K32)/10000 -> 0.18846333 | M32: 0.65
B33: 18 | C33: 0.1 | D33: =4380*3 -> 13140 | E33: =D33*M33 -> 8541 | F33: 400000 | G33: =E33-F33 -> -391459 | H33: =D33*(1-$M$16) -> 7489.8 | I33: =689.5*3/0.45*$I$5 -> 1884.6333 | J33: =F32*$I$5 -> 164000 | K33: =$I$3*$I$4 -> 0 | L33: =(I33+K33)/10000 -> 0.18846333 | M33: 0.65
B34: 19 | C34: 0.1 | D34: =4380*3 -> 13140 | E34: =D34*M34 -> 8541 | F34: 400000 | G34: =E34-F34 -> -391459 | H34: =D34*(1-$M$16) -> 7489.8 | I34: =689.5*3/0.45*$I$5 -> 1884.6333 | J34: =F33*$I$5 -> 164000 | K34: =$I$3*$I$4 -> 0 | L34: =(I34+K34)/10000 -> 0.18846333 | M34: 0.65
B35: 20 | C35: 0.1 | D35: =4380*3 -> 13140 | E35: =D35*M35 -> 8541 | F35: 400000 | G35: =E35-F35 -> -391459 | H35: =D35*(1-$M$16) -> 7489.8 | I35: =689.5*3/0.45*$I$5 -> 1884.6333 | J35: =F34*$I$5 -> 164000 | K35: =$I$3*$I$4 -> 0 | L35: =(I35+K35)/10000 -> 0.18846333 | M35: 0.65
B36: 21 | C36: =C35-$I$9 -> 0.0945
B37: 22 | C37: =C36-$I$9 -> 0.089 | G37: =E36-F37 -> 0 | J37: =F36*$I$5 -> 0
B38: 23 | C38: =C37-$I$9 -> 0.0835 | G38: =E37-F38 -> 0 | J38: =F37*$I$5 -> 0
B39: 24 | C39: =C38-$I$9 -> 0.078 | G39: =E38-F39 -> 0 | J39: =F38*$I$5 -> 0
B40: 25 | C40: =C39-$I$9 -> 0.0725 | G40: =E39-F40 -> 0 | J40: =F39*$I$5 -> 0
...

Sheet 工程量清单-投资估算表
A1: 大岭山数智谷产业促进中心两轮电动车充电站采购清单
A2: 序号 | B2: 安装项目 | D2: 型号规格 | E2: 数量 | F2: 单位 | G2: 单价限价 含税（元） | H2: 投标单价报价 | I2: 合计 含税（元） | J2: 备注
A3: 1 | B3: 充电设备 | C3: 智能充电站 | D3: 10路充电路数 AC220V 整机最大负荷5kW 含软件 | E3: 14 | F3: 台 | G3: 600 | I3: =E3*H3 -> 0
A4: 2 | C4: 设备主机安装费 | D4: 设备安装 含设备落地固定及电表安装、软件安装等 | E4: 14 | F4: 套 | G4: 487 | I4: =E4*H4 -> 0
A5: 3 | C5: 充电专用插座 | D5: 插座 AC220V、插座专用防雨罩 | E5: 140 | F5: 套 | G5: 30.5 | I5: =E5*H5 -> 0 | J5: 立柱版
A6: 4 | C6: 电表套装 | D6: 三相485电表（配合主机支持远程抄表）+塑料电表箱+空开漏电保护一体保护器 | E6: 1 | F6: 套 | G6: 581.68 | I6: =E6*H6 -> 0
A7: 5 | D7: 单相485电表（配合主机支持远程抄表）+塑料电表箱+空开漏电保护一体保护器 | E7: 1 | F7: 套 | G7: 426.35 | I7: =E7*H7 -> 0
A8: 6 | C8: 户外配电箱 | D8: 包含户外箱体、63A断路器、浪涌保护、25A（带漏电保护）*6 | E8: 2 | F8: 套 | G8: 903 | I8: =E8*H8 -> 0
A9: 7 | D9: C25A A型 30mA RCBO | E9: 2 | F9: 个 | G9: 85.48 | I9: =E9*H9 -> 0
A10: 8 | D10: 32A断路器 | E10: 1 | F10: 个 | G10: 54.85 | I10: =E10*H10 -> 0
A11: 9 | C11: 电力电缆 | D11: 电缆 YJV 0.6/1KV 5*6平方 | E11: 26 | F11: 米 | G11: 45.4 | I11: =E11*H11 -> 0
A12: 10 | D12: BVR-10mm² | E12: 20 | F12: 米 | G12: 13.28 | I12: =E12*H12 -> 0
A13: 11 | D13: BVR-6mm² | E13: 104 | F13: 米 | G13: 8.32 | I13: =E13*H13 -> 0
A14: 12 | D14: BVR-4mm² | E14: 1466 | F14: 米 | G14: 6.03 | I14: =E14*H14 -> 0
A15: 13 | D15: BVR-2.5mm² | E15: 1820 | F15: 米 | G15: 4.61 | I15: =E15*H15 -> 0
A16: 14 | D16: BVR-1.5mm² | E16: 210 | F16: 米 | G16: 4.35 | I16: =E16*H16 -> 0
A17: 15 | C17: 主线安装 | D17: 暗装：含线管、管码、穿管及人工安装费等 | E17: 48 | F17: 米 | G17: 19.8 | I17: =E17*H17 -> 0 | L17: 暂按PC32
A18: 16 | C18: 照明灯具 | D18: 12W以上LED照明灯，带安装支架（声光控） | E18: 14 | F18: 套 | G18: 164.38 | I18: =E18*H18 -> 0 | L18: 暂按12WLED照明灯
A19: 17 | B19: 消防器材 | C19: 监控摄像设备 | D19: 火焰识别摄像头、枪式摄像机、录像机， 数据保存1个月以上 含1年移动数据流量包等 | E19: 4 | F19: 套 | G19: 1423.4 | I19: =E19*H19 -> 0
A20: 18 | C20: 水基型灭火器 | D20: 手提式水基型灭火器，两边挂墙/柱 | E20: 12 | F20: 个 | G20: 111.14 | I20: =E20*H20 -> 0
A21: 19 | C21: 烟感探头 | D21: 电池正常待机2年以上 | E21: 19 | F21: 个 | G21: 136.75 | I21: =E21*H21 -> 0
A22: 20 | C22: 消防水管 | D22: 消防专用水管 | E22: 90 | F22: 米 | G22: 50.5 | I22: =E22*H22 -> 0 | L22: 暂按内外热镀锌钢管DN25
A23: 21 | C23: 消防喷头 | D23: 实心锥喷嘴 消防高速离心式雾化喷头 不锈钢304（3米/个） | E23: 36 | F23: 个 | G23: 42.55 | I23: =E23*H23 -> 0
A24: 22 | C24: 末端压力套装 | D24: 末端压力（含材料、人工安装费） | E24: 2 | F24: 台 | G24: 236 | I24: =E24*H24 -> 0 | L24: 暂按阀门*1、压力表*1
A25: 23 | C25: 引水管 | D25: DN25（含材料、人工安装费,PVC） | E25: 17 | F25: 米 | G25: 14.86 | I25: =E25*H25 -> 0
A26: 24 | C26: 引水管安装 | D26: 暗装：含水管、管码及人工安装费等 | E26: 17 | F26: 米 | G26: 17.19 | I26: =E26*H26 -> 0 | L26: 暂按PVCDN32
A27: 25 | C27: 普通水表 | D27: 含材料、人工安装费（暂按DN25） | E27: 2 | F27: 套 | G27: 133.75 | I27: =E27*H27 -> 0 | L27: 暂按DN25
A28: 26 | C28: 消防拉钩 | D28: 3米 带绝缘 | E28: 4 | F28: 根 | G28: 28.7 | I28: =E28*H28 -> 0
A29: 27 | C29: 防火隔板 | D29: 耐火极限≥2.00h | E29: 15 | F29: ㎡ | G29: 332.18 | I29: =E29*H29 -> 0
A30: 28 | B30: 防 水 停 车 棚 | C30: 防水停车棚 | D30: 含立柱、支架、油漆、人工等 | E30: 168 | F30: ㎡ | G30: 132.36 | I30: =E30*H30 -> 0 | J30: 方通悬臂式:方通规格80*40*2.0
A31: 29 | D31: 棚顶材质含辅材、人工等 | E31: 168 | F31: ㎡ | G31: 95.97 | I31: =E31*H31 -> 0 | J31: 棚顶材质：防火布
A32: 30 | C32: 广告牌 | D32: 带“东莞能源”LOGO，700mm x 470mm x 5mm | E32: 12 | F32: 套 | G32: 427.44 | I32: =E32*H32 -> 0
A33: 31 | C33: 防雷接地 | D33: 镀锌角钢50×5×2500、镀锌扁钢40×4，接地电阻小于4Ω | E33: 3 | F33: 套 | G33: 116.6 | I33: =E33*H33 -> 0
A34: 32 | C34: 立柱基础 | D34: 含材料、开挖、回填、恢复、人工安装费.400*400*500 | E34: =14*3 -> 42 | F34: 个 | G34: 236 | I34: =E34*H34 -> 0
A35: 33 | C35: 停车位标线 | D35: 30mm宽以上标线 | E35: 235 | F35: m | G35: 12.93 | I35: =E35*H35 -> 0
A36: 34 | C36: 路面开挖 | D36: 机械开挖素土/绿化土方；含人工开挖沟槽 清底修边，含建筑垃圾及淤泥外运、路面恢复 | E36: 112 | F36: m³ | G36: 113.79 | I36: =E36*H36 -> 0 | L36: 单价包含拆除废料外运费用
A37: 安全文明施工费与设计费 | D37: 含安全文明施工费，工程一切险、人员意外险 | E37: 1 | F37: 项 | G37: 6892 | I37: =E37*H37 -> 0
A38: 合计： | I38: =E38*H38 -> 0
A39: 大写： | E39: =I38 -> 0 | J39: 提供9%增值税发票
